BEGIN:VCALENDAR
VERSION:2.0
PRODID:-//SSSMRE - ECPv6.15.18//NONSGML v1.0//EN
CALSCALE:GREGORIAN
METHOD:PUBLISH
X-WR-CALNAME:SSSMRE
X-ORIGINAL-URL:https://www.cndwebdesign.info
X-WR-CALDESC:Events for SSSMRE
REFRESH-INTERVAL;VALUE=DURATION:PT1H
X-Robots-Tag:noindex
X-PUBLISHED-TTL:PT1H
BEGIN:VTIMEZONE
TZID:America/Chicago
BEGIN:DAYLIGHT
TZOFFSETFROM:-0600
TZOFFSETTO:-0500
TZNAME:CDT
DTSTART:20250309T080000
END:DAYLIGHT
BEGIN:STANDARD
TZOFFSETFROM:-0500
TZOFFSETTO:-0600
TZNAME:CST
DTSTART:20251102T070000
END:STANDARD
BEGIN:DAYLIGHT
TZOFFSETFROM:-0600
TZOFFSETTO:-0500
TZNAME:CDT
DTSTART:20260308T080000
END:DAYLIGHT
BEGIN:STANDARD
TZOFFSETFROM:-0500
TZOFFSETTO:-0600
TZNAME:CST
DTSTART:20261101T070000
END:STANDARD
BEGIN:DAYLIGHT
TZOFFSETFROM:-0600
TZOFFSETTO:-0500
TZNAME:CDT
DTSTART:20270314T080000
END:DAYLIGHT
BEGIN:STANDARD
TZOFFSETFROM:-0500
TZOFFSETTO:-0600
TZNAME:CST
DTSTART:20271107T070000
END:STANDARD
END:VTIMEZONE
BEGIN:VEVENT
DTSTART;TZID=America/Chicago:20260418T090000
DTEND;TZID=America/Chicago:20260419T160000
DTSTAMP:20260419T071430
CREATED:20260331T210458Z
LAST-MODIFIED:20260401T184215Z
UID:152-1776502800-1776614400@www.cndwebdesign.info
SUMMARY:Open House
DESCRIPTION:Open House\nAt the\nSheboygan Railroad Museum\n1001 N 10th St \nSheboygan\, WI \n9:00am to 4:00pm both days \nFood and refreshments are available \nDonations welcome
URL:https://www.cndwebdesign.info/event/open-house/
LOCATION:Sheboygan Railroad Museum\, 1001 N. 10th St.\, Sheboygan\, WI\, 53091\, United States
END:VEVENT
END:VCALENDAR